0.0000089993
0.0000000000
0.0000000000
-0.0000089993
-80.2115910727
27.3361411087
