0.0000089993
0.0000000000
0.0000000000
-0.0000089993
-80.1967152628
27.2465802735
