0.0000089993
0.0000000000
0.0000000000
-0.0000089993
-80.2016108711
27.3136519078
