0.0000089993
0.0000000000
0.0000000000
-0.0000089993
-80.1920356371
27.2375359971
