0.0000089993
0.0000000000
0.0000000000
-0.0000089993
-80.1820554356
27.2284467242
