0.0000089993
0.0000000000
0.0000000000
-0.0000089993
-80.1718232541
27.1742170626
