0.0000089993
0.0000000000
0.0000000000
-0.0000089993
-80.1623380130
27.1651007919
