0.0000089993
0.0000000000
0.0000000000
-0.0000089993
-80.1619330454
27.2193034557
