0.0000089993
0.0000000000
0.0000000000
-0.0000089993
-80.1522408207
27.1650737940
