0.0000089993
0.0000000000
0.0000000000
-0.0000089993
-80.1520428366
27.1921526277
