0.0000089993
0.0000000000
0.0000000000
-0.0000089993
-80.1424316055
27.1289056875
