0.0000089993
0.0000000000
0.0000000000
-0.0000089993
-80.1421526278
27.1650107991
