0.0000089993
0.0000000000
0.0000000000
-0.0000089993
-80.8051745860
28.8917026637
