0.0000089993
0.0000000000
0.0000000000
-0.0000089993
-80.7949334053
28.8916846652
