0.0000089993
0.0000000000
0.0000000000
-0.0000089993
-80.7847192225
28.8736231101
