0.0000089993
0.0000000000
0.0000000000
-0.0000089993
-80.7642998560
28.8284557235
