0.0000089993
0.0000000000
0.0000000000
-0.0000089993
-80.7642908567
28.8374820014
