0.0000089993
0.0000000000
0.0000000000
-0.0000089993
-80.7438174946
28.8236141108
