0.0000089993
0.0000000000
0.0000000000
-0.0000089993
-80.7234161267
28.7922696184
