0.0000089993
0.0000000000
0.0000000000
-0.0000089993
-80.7046076314
28.7471022318
