0.0000089993
0.0000000000
0.0000000000
-0.0000089993
-80.7132559395
28.7561465082
