0.0000089993
0.0000000000
0.0000000000
-0.0000089993
-80.7132379410
28.7651727861
