0.0000089993
0.0000000000
0.0000000000
-0.0000089993
-80.7132199424
28.7684485241
