0.0000089993
0.0000000000
0.0000000000
-0.0000089993
-80.6928455724
28.7290226781
