0.0000089993
0.0000000000
0.0000000000
-0.0000089993
-80.6768718503
28.7109251260
