0.0000089993
0.0000000000
0.0000000000
-0.0000089993
-80.6724262059
28.7109251259
