0.0000089993
0.0000000000
0.0000000000
-0.0000089993
-80.6125449964
28.3677555795
