0.0000089993
0.0000000000
0.0000000000
-0.0000089993
-80.6080003600
28.2052645788
