0.0000089993
0.0000000000
0.0000000000
-0.0000089993
-80.6083243341
28.2323434125
