0.0000089993
0.0000000000
0.0000000000
-0.0000089993
-80.6125359971
28.2955363570
