0.0000089993
0.0000000000
0.0000000000
-0.0000089993
-80.6123020158
28.3587293016
