0.0000089993
0.0000000000
0.0000000000
-0.0000089993
-80.6066504680
28.4153167746
