0.0000089993
0.0000000000
0.0000000000
-0.0000089993
-80.6018628510
28.4218592512
