0.0000089993
0.0000000000
0.0000000000
-0.0000089993
-80.5928725702
28.4226961843
