0.0000089993
0.0000000000
0.0000000000
-0.0000089993
-80.5993520518
28.5843592512
