0.0000089993
0.0000000000
0.0000000000
-0.0000089993
-80.5913426926
28.1510529157
