0.0000089993
0.0000000000
0.0000000000
-0.0000089993
-80.5917116631
28.4037976961
