0.0000089993
0.0000000000
0.0000000000
-0.0000089993
-80.5893178546
28.5752969762
