0.0000089993
0.0000000000
0.0000000000
-0.0000089993
-80.5910277178
28.5843322534
