0.0000089993
0.0000000000
0.0000000000
-0.0000089993
-80.5775287977
28.1058765298
