0.0000089993
0.0000000000
0.0000000000
-0.0000089993
-80.5814524838
28.4127969762
