0.0000089993
0.0000000000
0.0000000000
-0.0000089993
-80.5814434845
28.4218232541
