0.0000089993
0.0000000000
0.0000000000
-0.0000089993
-80.5808945284
28.5572264218
