0.0000089993
0.0000000000
0.0000000000
-0.0000089993
-80.5724982001
28.1058585313
