0.0000089993
0.0000000000
0.0000000000
-0.0000089993
-80.5718862491
28.1239020878
