0.0000089993
0.0000000000
0.0000000000
-0.0000089993
-80.5723542117
28.1419636429
