0.0000089993
0.0000000000
0.0000000000
-0.0000089993
-80.5707523398
28.5391378689
