0.0000089993
0.0000000000
0.0000000000
-0.0000089993
-80.5705813535
28.5842692584
