0.0000089993
0.0000000000
0.0000000000
-0.0000089993
-80.5705363571
28.5932865370
