0.0000089993
0.0000000000
0.0000000000
-0.0000089993
-80.5623110151
28.1058225341
